BEGIN:VCALENDAR
PRODID:-//eluceo/ical//2.0/EN
VERSION:2.0
CALSCALE:GREGORIAN
BEGIN:VEVENT
UID:25ff3732dc6f49d211af0ab253da7b95
DTSTAMP:20260417T111303Z
SUMMARY:Civic Center Soundtrack | June 16
DESCRIPTION:Enjoy a musical break from the hustle and bustle of the city wi
 th the Civic Center Soundtrack: Free live music in Fulton Plaza between th
 e San Francisco Public Library and the Asian Art Museum. Set Times:12:00 p
 m &#8211\; Frankie West1:00 pm &#8211\; Paris2:00 pm &#8211\; Lost Coast F
 ood Truck:Tacos El Cowboy
DTSTART:20260616T190000Z
DTEND:20260616T220000Z
LOCATION:147 Fulton St\, San Francisco\, CA 94102
END:VEVENT
END:VCALENDAR
