BEGIN:VCALENDAR
PRODID:-//eluceo/ical//2.0/EN
VERSION:2.0
CALSCALE:GREGORIAN
BEGIN:VEVENT
UID:ef816de6ee5acaa1425896f64c5b4463
DTSTAMP:20260424T083659Z
SUMMARY:Midweek Melodies | June 17
DESCRIPTION:Pack some snacks\, your favorite drinks\, and grab your friends
 ! It&#8217\;s time to take a mid-week music break and enjoy a free live sh
 ow in Golden Gate Park! Set Times: 4:00pm &#8211\; Amelia Hogan5:00pm &#82
 11\; Anahita Skye6:00pm &#8211\; Alex Wise Trio
DTSTART:20260617T230000Z
DTEND:20260618T020000Z
LOCATION:75 Hagiwara Tea Garden Dr\, San Francisco\, CA 94118
END:VEVENT
END:VCALENDAR