BEGIN:VCALENDAR
PRODID:-//eluceo/ical//2.0/EN
VERSION:2.0
CALSCALE:GREGORIAN
BEGIN:VEVENT
UID:862dd6d6e6aecb149010c7cdd5acbc36
DTSTAMP:20260422T161459Z
SUMMARY:Kids Festival | May 30
DESCRIPTION:More info to come soon!
DTSTART:20260530T173000Z
DTEND:20260530T203000Z
LOCATION:75 Hagiwara Tea Garden Dr\, San Francisco\, CA 94118
END:VEVENT
END:VCALENDAR