BEGIN:VCALENDAR
PRODID:-//eluceo/ical//2.0/EN
VERSION:2.0
CALSCALE:GREGORIAN
BEGIN:VEVENT
UID:bf4c1931ac3470a8c1d4118a46fd0661
DTSTAMP:20260417T111134Z
SUMMARY:Bandshell Blues Fest | May 23
DESCRIPTION:The 1st Annual Bandshell Blues Fest is here! Put on your dancin
 &#8217\; shoes and boogie on down to the Bandshell for this special Saturd
 ay show. Set Times:1:00pm &#8211\; Highwater Blues Band2:00pm &#8211\; Sta
 n Erhart &amp\; The Fabulous Misfits3:00pm &#8211\; Dennis Johnson &amp\; 
 The Revelators
DTSTART:20260523T190000Z
DTEND:20260523T230000Z
LOCATION:75 Hagiwara Tea Garden Dr\, San Francisco\, CA 94118
END:VEVENT
END:VCALENDAR
