BEGIN:VCALENDAR
PRODID:-//eluceo/ical//2.0/EN
VERSION:2.0
CALSCALE:GREGORIAN
BEGIN:VEVENT
UID:0a0d4662b05883693cd65954af68f108
DTSTAMP:20260417T111121Z
SUMMARY:Friday Happy Hour | May 22
DESCRIPTION:Kick off the weekend with free live music in Golden Gate Park! 
 Bring your favorite drinks\, tasty snacks\, and enjoy this all-ages show b
 y Maurice Tani
DTSTART:20260522T233000Z
DTEND:20260523T023000Z
LOCATION:75 Hagiwara Tea Garden Dr\, San Francisco\, CA 94118
END:VEVENT
END:VCALENDAR