BEGIN:VCALENDAR
PRODID:-//eluceo/ical//2.0/EN
VERSION:2.0
CALSCALE:GREGORIAN
BEGIN:VEVENT
UID:83271f4ba2707bce730acb0b84fbc76c
DTSTAMP:20260417T111120Z
SUMMARY:Midweek Melodies | May 20
DESCRIPTION:Pack some snacks\, your favorite drinks\, and grab your friends
 ! It&#8217\;s time to take a mid-week musical break and enjoy an evening o
 f live music from 3 local artists. Set Times: 4:00pm &#8211\; JimBo Trout5
 :00pm &#8211\; Jeff Desira6:00pm &#8211\; Latchkey
DTSTART:20260520T230000Z
DTEND:20260521T020000Z
LOCATION:75 Hagiwara Tea Garden Dr\, San Francisco\, CA 94118
END:VEVENT
END:VCALENDAR