BEGIN:VCALENDAR
PRODID:-//eluceo/ical//2.0/EN
VERSION:2.0
CALSCALE:GREGORIAN
BEGIN:VEVENT
UID:8361f18ccf2b598cd066eddff53f4111
DTSTAMP:20260417T104818Z
SUMMARY:Midweek Melodies | May 13
DESCRIPTION:Pack some snacks\, your favorite drinks\, and grab your friends
 ! It&#8217\;s time to take a mid-week musical break and enjoy an evening o
 f live music from 3 local artists. Set Times: 4:00pm &#8211\; Sushi and St
 rawberry5:00pm &#8211\; Jim Bruno6:00pm &#8211\; Hollow Mind Band
DTSTART:20260513T230000Z
DTEND:20260514T020000Z
LOCATION:75 Hagiwara Tea Garden Dr\, San Francisco\, CA 94118
END:VEVENT
END:VCALENDAR
