BEGIN:VCALENDAR
PRODID:-//eluceo/ical//2.0/EN
VERSION:2.0
CALSCALE:GREGORIAN
BEGIN:VEVENT
UID:9cf3585f1d22c2d8da54a57c1ee2cb53
DTSTAMP:20260417T104716Z
SUMMARY:Market To Bandshell | Midweek Melodies | May 6
DESCRIPTION:Enjoy a mid-week music break at Market to Bandshell. This free 
 live concert features up &amp\; coming talent from the Sunset Mercantile F
 armers Market\, showcased on the Golden Gate Bandshell stage! Set Times: 4
 :00 &#8211\; Alie Halla5:00 &#8211\; Dan Agnello6:00 &#8211\; Outer Distri
 ct
DTSTART:20260506T230000Z
DTEND:20260507T020000Z
LOCATION:75 Hagiwara Tea Garden Dr\, San Francisco\, CA 94118
END:VEVENT
END:VCALENDAR
