BEGIN:VCALENDAR
PRODID:-//eluceo/ical//2.0/EN
VERSION:2.0
CALSCALE:GREGORIAN
BEGIN:VEVENT
UID:e7b84cc478c8dbb31df8e0497653e2f0
DTSTAMP:20260423T220226Z
SUMMARY:SF Neo Psych Fest | April 11
DESCRIPTION:SF Neo Psych Fest is bringing you an afternoon of free psychede
 lic music featuring: BOLERO!The Spiral ElectricHot Mountain Dips
DTSTART:20260411T190000Z
DTEND:20260411T230000Z
LOCATION:75 Hagiwara Tea Garden Dr\, San Francisco\, CA 94118
END:VEVENT
END:VCALENDAR