BEGIN:VCALENDAR
PRODID:-//eluceo/ical//2.0/EN
VERSION:2.0
CALSCALE:GREGORIAN
BEGIN:VEVENT
UID:f63a932371cca7fbbffbd05681581c1b
DTSTAMP:20260423T224234Z
SUMMARY:Tribute To Legends 2026 | April 4
DESCRIPTION:Take a step back in time with this free cover-band show featuri
 ng: Set Times:12:30 pm &#8211\; Chick Jagger2:30 pm &#8211\; Trouble with 
 Monkeys
DTSTART:20260404T190000Z
DTEND:20260404T230000Z
LOCATION:75 Hagiwara Tea Garden Dr\, San Francisco\, CA 94118
END:VEVENT
END:VCALENDAR