BEGIN:VCALENDAR
PRODID:-//eluceo/ical//2.0/EN
VERSION:2.0
CALSCALE:GREGORIAN
BEGIN:VEVENT
UID:d33e4debc5199c98a737800b32aa175a
DTSTAMP:20260423T154816Z
SUMMARY:Crucial Reggae Sundays | March 29
DESCRIPTION:Close out the weekend dancing in the park at Crucial Reggae Sun
 days. Hosts:Irie Dole\, DJ Guidance\, &amp\; DJ SepSpecial Guests:Ay Qué
  Linda – Words of Devine Radio
DTSTART:20260329T233000Z
DTEND:20260330T023000Z
LOCATION:75 Hagiwara Tea Garden Dr\, San Francisco\, CA 94118
END:VEVENT
END:VCALENDAR