BEGIN:VCALENDAR
PRODID:-//eluceo/ical//2.0/EN
VERSION:2.0
CALSCALE:GREGORIAN
BEGIN:VEVENT
UID:68144d92c05ed3b2ea3028deacd6484b
DTSTAMP:20260422T020013Z
SUMMARY:5th Annual Kids Festival | March 28
DESCRIPTION:Charity and the JAMBand is back for the 5th Annual Kids Festiva
 l at the Golden Gate Bandshell.Joined by Teacher Barb\, this show is an ev
 ent your family won&#8217\;t want to miss! * 10:30am: Charity and the JAMb
 and rock the house with music from their eight award-winning albums of fam
 ily music!* 12:45pm: Teacher Barb closes out [&hellip\;]
DTSTART:20260328T173000Z
DTEND:20260328T203000Z
LOCATION:75 Hagiwara Tea Garden Dr\, San Francisco\, CA 94118
END:VEVENT
END:VCALENDAR