BEGIN:VCALENDAR
PRODID:-//eluceo/ical//2.0/EN
VERSION:2.0
CALSCALE:GREGORIAN
BEGIN:VEVENT
UID:fcb372047b2e9ba6f94a19f460717ca8
DTSTAMP:20260422T003217Z
SUMMARY:Crucial Reggae Sundays | March 22
DESCRIPTION:Close out the weekend dancing in the park at Crucial Reggae Sun
 days. Hosts:Irie Dole\, DJ Guidance\, &amp\; DJ SepSpecial Guests:DJ Outla
 w Yoko
DTSTART:20260322T233000Z
DTEND:20260323T023000Z
LOCATION:75 Hagiwara Tea Garden Dr\, San Francisco\, CA 94118
END:VEVENT
END:VCALENDAR