BEGIN:VCALENDAR
PRODID:-//eluceo/ical//2.0/EN
VERSION:2.0
CALSCALE:GREGORIAN
BEGIN:VEVENT
UID:a5954a10165a95a0b14f5f9c176ae69d
DTSTAMP:20260421T163230Z
SUMMARY:Friday Happy Hour | March 20
DESCRIPTION:Kick off the weekend with free live music in Golden Gate Park! 
 Bring your favorite drinks\, tasty snacks\, and the watch a show filled wi
 th all-original contemporary jazz\, salsa R&amp\;B\, funk and reggae\, per
 formed by Jean Fineberg &amp\; JAZZphoria.
DTSTART:20260320T233000Z
DTEND:20260321T023000Z
LOCATION:75 Hagiwara Tea Garden Dr\, San Francisco\, CA 94118
END:VEVENT
END:VCALENDAR