BEGIN:VCALENDAR
PRODID:-//eluceo/ical//2.0/EN
VERSION:2.0
CALSCALE:GREGORIAN
BEGIN:VEVENT
UID:cc954172e048961e9659695b180b372a
DTSTAMP:20260417T110012Z
SUMMARY:Midweek Melodies | March 11
DESCRIPTION:Pack some snacks\, your favorite drinks\, and grab your friends
 ! It&#8217\;s time to take a mid-week musical break and enjoy an evening o
 f live music from 3 local artists. Set Times: 4:00pm &#8211\; Frankie West
 5:00pm &#8211\; Maya Bennett6:00pm &#8211\; Jenny Haniver
DTSTART:20260311T230000Z
DTEND:20260312T020000Z
LOCATION:75 Hagiwara Tea Garden Dr\, San Francisco\, CA 94118
END:VEVENT
END:VCALENDAR