BEGIN:VCALENDAR
PRODID:-//eluceo/ical//2.0/EN
VERSION:2.0
CALSCALE:GREGORIAN
BEGIN:VEVENT
UID:f9bef1214bfe1b35b0d6696b60c1d207
DTSTAMP:20260417T110007Z
SUMMARY:Civic Center Soundtrack | October 2
DESCRIPTION:Take a long lunch and enjoy free live local music in downtown S
 an Francisco. Set Times:3:00 pm &#8211\; Maya Bennett4:00 pm &#8211\; Alex
  Walsh5:00 pm &#8211\; Vigilis
DTSTART:20251002T220000Z
DTEND:20251003T010000Z
LOCATION:147 Fulton St\, San Francisco\, CA 94102
END:VEVENT
END:VCALENDAR