BEGIN:VCALENDAR
PRODID:-//eluceo/ical//2.0/EN
VERSION:2.0
CALSCALE:GREGORIAN
BEGIN:VEVENT
UID:8ef269046f40d5d3b1e26c587c865970
DTSTAMP:20260417T111859Z
SUMMARY:Civic Center Soundtrack | August 26
DESCRIPTION:Take a long lunch and enjoy free live local music in downtown S
 an Francisco. Set Times:12:00 pm &#8211\; Joe Burke1:00 pm &#8211\; Paris2
 :00 pm &#8211\; Michael Annotti
DTSTART:20250826T190000Z
DTEND:20250826T220000Z
LOCATION:147 Fulton St\, San Francisco\, CA 94102
END:VEVENT
END:VCALENDAR