BEGIN:VCALENDAR
PRODID:-//eluceo/ical//2.0/EN
VERSION:2.0
CALSCALE:GREGORIAN
BEGIN:VEVENT
UID:ac990fe4f5b55910ca2f288c7ee5b0bd
DTSTAMP:20260420T160309Z
SUMMARY:Crucial Reggae Sundays | Aug 17
DESCRIPTION:Close out the weekend dancing in the park at Crucial Reggae Sun
 days. Hosts:Irie Dole\, DJ Guidance\, &amp\; DJ SepSpecial Guests:DJ Short
 kut
DTSTART:20250817T232000Z
DTEND:20250818T023000Z
LOCATION:75 Hagiwara Tea Garden Dr\, San Francisco\, CA 94118
END:VEVENT
END:VCALENDAR