BEGIN:VCALENDAR
PRODID:-//eluceo/ical//2.0/EN
VERSION:2.0
CALSCALE:GREGORIAN
BEGIN:VEVENT
UID:978538fcbae1bd6d3b01aa80ab849440
DTSTAMP:20260423T123624Z
SUMMARY:The Whale&#8217\;s Tail Closing Weekend | October 11
DESCRIPTION:It&#8217\;s the final weekend of The Whale&#8217\;s Tail 2025\,
  so come send us off in style! More details to come soon! Pull together a 
 few Adirondack chairs or grab one of the picnic tables and take a breather
  from exploring The Golden Mile. Bring the whole family (pups and kids wel
 come!) and enjoy live music\, [&hellip\;]
DTSTART:20251011T190000Z
DTEND:20251012T010000Z
LOCATION:14th Avenue East Meadow\, Golden Gate Park\, San Francisco\, CA
END:VEVENT
END:VCALENDAR