BEGIN:VCALENDAR
PRODID:-//eluceo/ical//2.0/EN
VERSION:2.0
CALSCALE:GREGORIAN
BEGIN:VEVENT
UID:a8d8c66c8631bb51690d2e505a44889d
DTSTAMP:20260417T111509Z
SUMMARY:The Whale&#8217\;s Tail | September 20
DESCRIPTION:The Whale&#8217\;s Tail is honoring the life and music of Steph
 anie of The Season of Us with a packed line up of local musicians. We’ll
  start with FREE Yoga in the Park with Elisha St. Denis at 11am! Swing b
 y\, stretch out\, and stay to enjoy the afternoon in the park! Snag your F
 REE RSVP for yoga [&hellip\;]
DTSTART:20250920T190000Z
DTEND:20250921T010000Z
LOCATION:14th Avenue East Meadow\, Golden Gate Park\, San Francisco\, CA
END:VEVENT
END:VCALENDAR