BEGIN:VCALENDAR
PRODID:-//eluceo/ical//2.0/EN
VERSION:2.0
CALSCALE:GREGORIAN
BEGIN:VEVENT
UID:ac999c41d4ea7d4b70ce954d0816c7de
DTSTAMP:20260417T110747Z
SUMMARY:Welcome Pride Kick-Off Celebration
DESCRIPTION:Illuminate will debut WELCOME on Friday June 27 with a Pride ce
 lebration at Embarcadero Plaza. 🎇The celebration will be hosted by the 
 iconic Sister Roma and will include music by DJ KURTYKA and drag perform
 ances by Rahni NothingMore &amp\; Per Sia. We&#8217\;ll be partying bene
 ath R-Evolution\, San Francisco&#8217\;s newest (and largest) public exhib
 it\, decked out in pride colors by [&hellip\;]
DTSTART:20250628T030000Z
DTEND:20250628T050000Z
LOCATION:The Embarcadero\, San Francisco\, CA 94111
END:VEVENT
END:VCALENDAR