BEGIN:VCALENDAR
PRODID:-//eluceo/ical//2.0/EN
VERSION:2.0
CALSCALE:GREGORIAN
BEGIN:VEVENT
UID:b3f16802e139ea0f4774bec0c4fdd41f
DTSTAMP:20260417T110000Z
SUMMARY:Civic Center Soundtrack | Jul 8
DESCRIPTION:Take a long lunch and enjoy free live local music in downtown S
 an Francisco. Set Times:12:00 pm &#8211\; Maya Bennett1:00 pm &#8211\; Nat
 asha2:00 pm &#8211\; Keepers of Humanity (solo)
DTSTART:20250708T190000Z
DTEND:20250708T220000Z
LOCATION:147 Fulton St\, San Francisco\, CA 94102
END:VEVENT
END:VCALENDAR
