BEGIN:VCALENDAR
PRODID:-//eluceo/ical//2.0/EN
VERSION:2.0
CALSCALE:GREGORIAN
BEGIN:VEVENT
UID:0cf08516877923e83a1ccabc0581c1ea
DTSTAMP:20260417T111638Z
SUMMARY:Civic Center Soundtrack Series
DESCRIPTION:Take a long lunch and enjoy free live music in Fulton Plaza! Se
 t Times:12:00 pm &#8211\; Amy Obenski1:00 pm &#8211\; Eva Jay Fortune2:00 
 pm &#8211\; Steven Pitsenbarger
DTSTART:20250508T190000Z
DTEND:20250508T220000Z
LOCATION:147 Fulton St\, San Francisco\, CA 94102
END:VEVENT
END:VCALENDAR