BEGIN:VCALENDAR
PRODID:-//eluceo/ical//2.0/EN
VERSION:2.0
CALSCALE:GREGORIAN
BEGIN:VEVENT
UID:5f3b5fbb07db7ecd0f53813a6309121b
DTSTAMP:20260417T111940Z
SUMMARY:Singer/Songwriter Wednesday
DESCRIPTION:Pack some snacks\, your favorite drinks\, and grab your friends
 ! It&#8217\;s time to take a mid-week musical break and enjoy free live mu
 sic from local San Francisco musicians. Set Times: 4:00 &#8211\; Michael A
 nnotti5:00 &#8211\; Jesse Loren Strickman6:00 &#8211\; Keepers of Humanity
DTSTART:20250423T230000Z
DTEND:20250424T020000Z
LOCATION:75 Hagiwara Tea Garden Dr\, San Francisco\, CA 94118
END:VEVENT
END:VCALENDAR