BEGIN:VCALENDAR
PRODID:-//eluceo/ical//2.0/EN
VERSION:2.0
CALSCALE:GREGORIAN
BEGIN:VEVENT
UID:b650de68c7628bf8ae204d6e29c1895e
DTSTAMP:20260417T111940Z
SUMMARY:Civic Center Vintage Market Event
DESCRIPTION:Come out for a special Saturday Market featuring free live musi
 c! Set Times:11:00 am &#8211\; Mark &amp\; Morgan12:00 pm &#8211\; Michael
  Brown1:00 pm &#8211\; Dwayne Jarrell2:00 pm &#8211\; Michael Annotti
DTSTART:20240921T180000Z
DTEND:20240921T220000Z
LOCATION:147 Fulton St\, San Francisco\, CA 94102
END:VEVENT
END:VCALENDAR