BEGIN:VCALENDAR
PRODID:-//eluceo/ical//2.0/EN
VERSION:2.0
CALSCALE:GREGORIAN
BEGIN:VEVENT
UID:569b4b58fde01d5d4cf010fb6363277d
DTSTAMP:20260417T111636Z
SUMMARY:Civic Center Soundtrack Series
DESCRIPTION:Take a long lunch and enjoy free live music in Fulton Plaza! Se
 t Times:2:00 pm &#8211\; Amy Obenski3:00 pm &#8211\; Mike Cunningham4:00 p
 m &#8211\; Dan Dectis
DTSTART:20241010T210000Z
DTEND:20241011T000000Z
LOCATION:147 Fulton St\, San Francisco\, CA 94102
END:VEVENT
END:VCALENDAR