BEGIN:VCALENDAR
PRODID:-//eluceo/ical//2.0/EN
VERSION:2.0
CALSCALE:GREGORIAN
BEGIN:VEVENT
UID:1e91b5404112309ef7cd62a4c1364ac1
DTSTAMP:20260417T110209Z
SUMMARY:Civic Center Soundtrack Series
DESCRIPTION:Take a long lunch and enjoy free live music in Fulton Plaza! Se
 t Times:12:00 pm &#8211\; Rebecca Chapa1:00 pm &#8211\; Lolah3:00 pm &#821
 1\; JW Blunt
DTSTART:20240927T190000Z
DTEND:20240927T220000Z
LOCATION:147 Fulton St\, San Francisco\, CA 94102
END:VEVENT
END:VCALENDAR
