BEGIN:VCALENDAR
PRODID:-//eluceo/ical//2.0/EN
VERSION:2.0
CALSCALE:GREGORIAN
BEGIN:VEVENT
UID:0ed886fd76cb479c4ba946d390cec924
DTSTAMP:20260422T071652Z
SUMMARY:Civic Center Soundtrack Series
DESCRIPTION:Take a long lunch and enjoy free live music in Fulton Plaza! Se
 t Times:12:00 pm &#8211\; Dan Dectis1:00 pm &#8211\; Steve Egelman3:00 pm 
 &#8211\; Brian Johnson
DTSTART:20240920T190000Z
DTEND:20240920T220000Z
LOCATION:147 Fulton St\, San Francisco\, CA 94102
END:VEVENT
END:VCALENDAR