BEGIN:VCALENDAR
PRODID:-//eluceo/ical//2.0/EN
VERSION:2.0
CALSCALE:GREGORIAN
BEGIN:VEVENT
UID:ed83e729c9b6c58d6820989ab65cf8d4
DTSTAMP:20260417T111916Z
SUMMARY:Singer/Songwriter Wednesday
DESCRIPTION:Take a mid-week musical break with free live music at the Golde
 n Gate Band. Set Times:4:00pm – Joe Burke5:00pm – JimBo Trout6:00pm 
 – A Talent for Mischief
DTSTART:20240731T230000Z
DTEND:20240801T020000Z
LOCATION:75 Hagiwara Tea Garden Dr\, San Francisco\, CA 94118
END:VEVENT
END:VCALENDAR