BEGIN:VCALENDAR
PRODID:-//eluceo/ical//2.0/EN
VERSION:2.0
CALSCALE:GREGORIAN
BEGIN:VEVENT
UID:dfa92e977c6c643a8649e898ef9a5663
DTSTAMP:20260423T210949Z
SUMMARY:Juneteenth Celebration
DESCRIPTION:Head out to the Music Concourse for a special Saturday show &am
 p\; Juneteenth Celebration featuring: The SistasKlassic ManRhoyalBaib&#821
 7\;eMICOSOUL
DTSTART:20240615T190000Z
DTEND:20240615T230000Z
LOCATION:75 Hagiwara Tea Garden Dr\, San Francisco\, CA 94118
END:VEVENT
END:VCALENDAR