BEGIN:VCALENDAR
PRODID:-//eluceo/ical//2.0/EN
VERSION:2.0
CALSCALE:GREGORIAN
BEGIN:VEVENT
UID:1fb92fe0ff6393b0ea3bbdef24d12a5d
DTSTAMP:20260424T145633Z
SUMMARY:Civic Center Soundtrack Series
DESCRIPTION:Take a long lunch and enjoy free live music in Fulton Plaza! Se
 t Times:2:00 pm &#8211\; wrob3:00 pm &#8211\; THE MISSING PIECES (solo)4:0
 0 pm &#8211\; Alex Walsh
DTSTART:20240530T210000Z
DTEND:20240531T000000Z
LOCATION:147 Fulton St\, San Francisco\, CA 94102
END:VEVENT
END:VCALENDAR