BEGIN:VCALENDAR
PRODID:-//eluceo/ical//2.0/EN
VERSION:2.0
CALSCALE:GREGORIAN
BEGIN:VEVENT
UID:dd4153b360f3107bacfb27a8300465d5
DTSTAMP:20260424T150040Z
SUMMARY:Civic Center Soundtrack Series
DESCRIPTION:Take a long lunch and enjoy free live music in Fulton Plaza! Se
 t Times:12:00 pm &#8211\; The Season of Us1:00 pm &#8211\; The Season of U
 s2:00 pm &#8211\; Charlie
DTSTART:20240528T190000Z
DTEND:20240528T220000Z
LOCATION:147 Fulton St\, San Francisco\, CA 94102
END:VEVENT
END:VCALENDAR