BEGIN:VCALENDAR
PRODID:-//eluceo/ical//2.0/EN
VERSION:2.0
CALSCALE:GREGORIAN
BEGIN:VEVENT
UID:f6ced1fd2a144a72b743c4adede1b05b
DTSTAMP:20260424T052040Z
SUMMARY:Singer/Songwriter Wednesday
DESCRIPTION:Enjoy a mid-week musical break with Singer/Songwriter Wednesday
  at the Golden Gate Bandshell! Set Times: 4:00 pm – Middle Dog5:00 pm 
 – Migrant Pickers6:00 pm – Stray Muse
DTSTART:20240515T230000Z
DTEND:20240516T020000Z
LOCATION:75 Hagiwara Tea Garden Dr\, San Francisco\, CA 94118
END:VEVENT
END:VCALENDAR