BEGIN:VCALENDAR
PRODID:-//eluceo/ical//2.0/EN
VERSION:2.0
CALSCALE:GREGORIAN
BEGIN:VEVENT
UID:5196f5bde45b567fed72fc74d6692b8c
DTSTAMP:20260421T221541Z
SUMMARY:All the Things I Can Be!
DESCRIPTION:Join us at the Golden Gate Bandshell for a children-focused mus
 ical variety show featuring:&#8211\; Teacher Barb and The Musicmakers&#821
 1\; Music Is First! Band The show will start with a fun-filled set by Teac
 her Barb and the Musicmakers The family friendly set will include &#8216\;
 Teacher Barb&#8217\; originals\, a few &#8216\;Just Call Me Barb&#8217\; o
 riginals\, and some [&hellip\;]
DTSTART:20240302T200000Z
DTEND:20240303T000000Z
LOCATION:75 Hagiwara Tea Garden Dr\, San Francisco\, CA 94118
END:VEVENT
END:VCALENDAR