BEGIN:VCALENDAR
PRODID:-//eluceo/ical//2.0/EN
VERSION:2.0
CALSCALE:GREGORIAN
BEGIN:VEVENT
UID:921b9b5eb120e47e3a968e399d18bd93
DTSTAMP:20260417T110232Z
SUMMARY:Music at the Golden Mile | Farewell Weekend
DESCRIPTION:The Golden Mile Beer &amp\; Wine Garden has closed for the seas
 on\, but the music isn’t through yet! Come out the the Garden and enjoy 
 one final weekend free live music on The Golden Mile! Located on 14th Ave 
 East Meadow on JFK Promenade\, west of the Rose Garden. Feel Free to bring
  your own [&hellip\;]
DTSTART:20231029T190000Z
DTEND:20231030T000000Z
LOCATION:14th Avenue East Meadow\, Golden Gate Park\, San Francisco\, CA
END:VEVENT
END:VCALENDAR
