BEGIN:VCALENDAR
PRODID:-//eluceo/ical//2.0/EN
VERSION:2.0
CALSCALE:GREGORIAN
BEGIN:VEVENT
UID:3bd79e97cba04fcb509c35db955a2964
DTSTAMP:20260417T110305Z
SUMMARY:The Golden Mile Beer &#038\; Wine Garden
DESCRIPTION:The Golden Mile Beer &amp\; Wine Garden is open Saturday &amp\;
  Sunday from 12pm-6pm. Pull together a few Adirondack chairs or grab one o
 f the picnic tables and take a a breather from exploring The Golden Mile. 
 All summer long you can enjoy live music\, food trucks\, &amp\; lawn games
 \, so bring the whole family\, [&hellip\;]
DTSTART:20231021T190000Z
DTEND:20231022T010000Z
LOCATION:14th Avenue East Meadow\, Golden Gate Park\, San Francisco\, CA
END:VEVENT
END:VCALENDAR
