BEGIN:VCALENDAR
PRODID:-//eluceo/ical//2.0/EN
VERSION:2.0
CALSCALE:GREGORIAN
BEGIN:VEVENT
UID:3aa289cc02cfece96c5c68149e656f48
DTSTAMP:20260417T105812Z
SUMMARY:Market to Bandshell – Singer/Songwriter Wednesday
DESCRIPTION:Market to Bandshell promotes the leading artists from Sunset Me
 rcantile as they elevate their performances to the Golden Gate Bandshell s
 tage. Set Times:4:00 pm &#8211\; Muse Zack 5:00 pm &#8211\; Blue on Green 
 6:00 pm – The Welcome Matt Produced in association with Sunset Mercantil
 e
DTSTART:20231101T230000Z
DTEND:20231102T020000Z
END:VEVENT
END:VCALENDAR