BEGIN:VCALENDAR
PRODID:-//eluceo/ical//2.0/EN
VERSION:2.0
CALSCALE:GREGORIAN
BEGIN:VEVENT
UID:8c4c0184f2254e7e20f0400e3c6e62df
DTSTAMP:20260424T084812Z
SUMMARY:Singer/Songwriter Wednesday
DESCRIPTION:Take a mid-week music break with Singer/Songwriter Wednesday. S
 et Times:4:00pm &#8211\; MJoy5:00pm &#8211\; Simon Melrose Band6:00pm &#82
 11\; Hither
DTSTART:20231025T230000Z
DTEND:20231026T020000Z
END:VEVENT
END:VCALENDAR