BEGIN:VCALENDAR
PRODID:-//eluceo/ical//2.0/EN
VERSION:2.0
CALSCALE:GREGORIAN
BEGIN:VEVENT
UID:6c47d925366621cb514321c1284ff19b
DTSTAMP:20260424T171407Z
SUMMARY:Sounds of the Street: Concert Series &#038\; Workshops
DESCRIPTION:Join us at India Basin Shoreline park for a series of concerts 
 and workshops on select Saturdays. Come out and enjoy some R&amp\;B\, Soul
 \, &amp\; swing with a concert by Dr. David Hardiman &amp\; his San Franci
 sco All-Star Big Band!
DTSTART:20231104T190000Z
DTEND:20231104T230000Z
LOCATION:Hunters Point Blvd &amp\; Hawes St\, 950 Galvez Ave\, San Francisc
 o\, CA 94124
END:VEVENT
END:VCALENDAR