BEGIN:VCALENDAR
PRODID:-//eluceo/ical//2.0/EN
VERSION:2.0
CALSCALE:GREGORIAN
BEGIN:VEVENT
UID:96c31ebe2d34cff092d1f35f1a648cae
DTSTAMP:20260417T110111Z
SUMMARY:The Golden Mile Beer &amp\; Wine Garden: Richard March\, Chinese Mu
 sic Ensemble\, Junior Correa\, &amp\;  RYVO
DESCRIPTION:The Golden Mile Beer &amp\; Wine Garden is open Saturday-Monday
  this holiday weekend\, from 12pm-6pm. Pull together a few Adirondack chai
 rs or grab one of the picnic tables and take a a breather from exploring T
 he Golden Mile. All summer long you can enjoy live music\, food trucks\, &
 amp\; lawn games\, so bring the whole [&hellip\;]
DTSTART:20230903T190000Z
DTEND:20230904T010000Z
LOCATION:14th Avenue East Meadow\, Golden Gate Park\, San Francisco\, CA
END:VEVENT
END:VCALENDAR